BEGIN:VCALENDAR
VERSION:2.0
CALSCALE:GREGORIAN
PRODID:adamgibbons/ics
METHOD:PUBLISH
X-PUBLISHED-TTL:PT1H
BEGIN:VEVENT
UID:21875@demo.gancio.org
SUMMARY:Convocatoria "5 años contra Vivotecnia\, 5 años con los animales"
DTSTAMP:20260421T114002Z
DTSTART:20260424T150000Z
DTEND:20260424T170000Z
URL:https://demo.gancio.org/event/convocatoria-5-anos-contra-vivotecnia-5-a
	nos-con-los-animales
LOCATION:Centro Superior de Investigaciones Científicas - c/Serrano 113-123
STATUS:CONFIRMED
CATEGORIES:#CerremosVivotecniaPorLosAnimales #StopAnimalTesting #Antiespeci
	smo #LiberaciónAnimal,Antivivisección,Cerremos Vivotecnia,Madrid,Veganismo
	,antiespecismo
END:VEVENT
END:VCALENDAR
